{"text_format":"1","workbook":"xlsx","n_sheets":2,"sheets":["Noten_1HJ","Noten_2HJ"],"not_rendered":{"charts":0,"images":0,"macros":1,"external_links":0,"defined_names":0,"comments":0,"pivot_tables":0},"unopened":[],"bounds":{"document_bytes":16777216,"sheet_cells":100000,"rows_first":2000,"rows_last":500,"rows_between":2000,"halvings":0,"cell_chars":16384,"cell_head_chars":4096},"cells_cut":0,"cells_raw":0,"read":"whole","date_system":"1900"}

{"sheet":"Noten_1HJ","index":0,"n_rows":50,"n_cols":15,"rows_kept":50,"cut":false,"hidden":false,"merged":[[2,9,2,10],[2,3,2,7],[3,0,3,1],[0,0,0,1],[1,0,1,1],[2,0,2,1]]}
["Fach",null,"Ph eA Abi 2014"]
["Klasse",null,"11 L1"]
["Schriftlich:",null,0.5,"Faktoren mündlich =1!",null,null,null,null,{"$f":"IF(SUM(D4:I4)=1,\"Ok\",\"Fehler\")","v":"Ok"},"Faktoren schriftlich =1!",null,{"$f":"IF(SUM(J4:L4)=1,\"Ok\",\"Fehler\")","v":"Ok"}]
["Mündlich:",null,{"$f":"1-C3","v":0.5},1,0,0,0,0,0,1,0,0]
[]
[null,null,null,"MN11","MN","MN","MN","MN","MN","A1","A2","A3","Gesamt M","Gesamt S","Gesamtnote"]
["Nr.","Nachname","Vorname","Punkte","Punkte","Punkte","Punkte","Punkte","Punkte","Punkte","Punkte","Punkte","Punkte","Punkte","Punkte"]
[]
[1,null,null,null,null,null,null,null,null,null,null,null,{"$f":"IF(COUNT(D9,E9,F9,G9,H9,I9)>0,ROUND(SUMPRODUCT(D9:I9,$D$4:$I$4),0),\"\")","v":""},{"$f":"IF(COUNT(J9,K9,L9)>0,ROUND(SUMPRODUCT(J9:L9,$J$4:$L$4),0),\"\")","v":""},{"$f":"IF(COUNT(M9,N9)=2,ROUND($C$4*SUMPRODUCT(D9:I9,$D$4:$I$4)+$C$3*SUMPRODUCT(J9:L9,$J$4:$L$4),0),\"\")","v":""}]
[{"$f":"1+A9","v":2},null,null,null,null,null,null,null,null,null,null,null,{"$f":"IF(COUNT(D10,E10,F10,G10,H10,I10)>0,ROUND(SUMPRODUCT(D10:I10,$D$4:$I$4),0),\"\")","v":""},{"$f":"IF(COUNT(J10,K10,L10)>0,ROUND(SUMPRODUCT(J10:L10,$J$4:$L$4),0),\"\")","v":""},{"$f":"IF(COUNT(M10,N10)=2,ROUND($C$4*SUMPRODUCT(D10:I10,$D$4:$I$4)+$C$3*SUMPRODUCT(J10:L10,$J$4:$L$4),0),\"\")","v":""}]
[{"$f":"1+A10","v":3},null,null,null,null,null,null,null,null,null,null,null,"","",""]
[4,null,null,null,null,null,null,null,null,null,null,null,"","",""]
[5,null,null,null,null,null,null,null,null,null,null,null,"","",""]
[6,null,null,null,null,null,null,null,null,null,null,null,"","",""]
[7,null,null,null,null,null,null,null,null,null,null,null,"","",""]
[8,null,null,null,null,null,null,null,null,null,null,null,"","",""]
[9,null,null,null,null,null,null,null,null,null,null,null,"","",""]
[10,null,null,null,null,null,null,null,null,null,null,null,"","",""]
[11,null,null,null,null,null,null,null,null,null,null,null,"","",""]
[12,null,null,null,null,null,null,null,null,null,null,null,"","",""]
[13,null,null,null,null,null,null,null,null,null,null,null,"","",""]
[14,null,null,null,null,null,null,null,null,null,null,null,"","",""]
[15,null,null,null,null,null,null,null,null,null,null,null,"","",""]
[16,null,null,null,null,null,null,null,null,null,null,null,"","",""]
[17,null,null,null,null,null,null,null,null,null,null,null,"","",""]
[18,null,null,null,null,null,null,null,null,null,null,null,"","",""]
[19,null,null,null,null,null,null,null,null,null,null,null,"","",""]
[20,null,null,null,null,null,null,null,null,null,null,null,"","",""]
[21,null,null,null,null,null,null,null,null,null,null,null,"","",""]
[22,null,null,null,null,null,null,null,null,null,null,null,"","",""]
[23,null,null,null,null,null,null,null,null,null,null,null,"","",""]
[24,null,null,null,null,null,null,null,null,null,null,null,"","",""]
[25,null,null,null,null,null,null,null,null,null,null,null,"","",""]
[26,null,null,null,null,null,null,null,null,null,null,null,"","",""]
[27,null,null,null,null,null,null,null,null,null,null,null,"","",""]
[28,null,null,null,null,null,null,null,null,null,null,null,"","",""]
[29,null,null,null,null,null,null,null,null,null,null,null,"","",""]
[30,null,null,null,null,null,null,null,null,null,null,null,"","",""]
[31,null,null,null,null,null,null,null,null,null,null,null,"","",""]
[32,null,null,null,null,null,null,null,null,null,null,null,"","",""]
[33,null,null,null,null,null,null,null,null,null,null,null,"","",""]
[34,null,null,null,null,null,null,null,null,null,null,null,"","",""]
[35,null,null,null,null,null,null,null,null,null,null,null,"","",""]
[36,null,null,null,null,null,null,null,null,null,null,null,"","",""]
[37,null,null,null,null,null,null,null,null,null,null,null,"","",""]
[38,null,null,null,null,null,null,null,null,null,null,null,"","",""]
[39,null,null,null,null,null,null,null,null,null,null,null,"","",""]
[40,null,null,null,null,null,null,null,null,null,null,null,"","",""]
[]
[null,null,"Mittelwert",{"$f":"IF(COUNT(D9:D48)=0,\"-\",AVERAGE(D9:D48))","v":"-"},{"$f":"IF(COUNT(E9:E48)=0,\"-\",AVERAGE(E9:E48))","v":"-"},"-","-","-","-","-","-","-","-","-","-"]

{"sheet":"Noten_2HJ","index":1,"n_rows":50,"n_cols":16,"rows_kept":50,"cut":false,"hidden":false,"merged":[[2,9,2,10],[3,0,3,1],[0,0,0,1],[1,0,1,1],[2,0,2,1],[2,3,2,7]]}
[{"$f":"Noten_1HJ!A1","v":"Fach"},null,{"$f":"Noten_1HJ!C1","v":"Ph eA Abi 2014"}]
[{"$f":"Noten_1HJ!A2","v":"Klasse"},null,{"$f":"Noten_1HJ!C2","v":"11 L1"}]
[{"$f":"Noten_1HJ!A3","v":"Schriftlich:"},null,0.5,"Faktoren mündlich =1!",null,null,null,null,{"$f":"IF(SUM(D4:I4)=1,\"Ok\",\"Fehler\")","v":"Ok"},"Faktoren schriftlich =1!",null,{"$f":"IF(SUM(J4:L4)=1,\"Ok\",\"Fehler\")","v":"Ok"}]
[{"$f":"Noten_1HJ!A4","v":"Mündlich:"},null,{"$f":"1-C3","v":0.5},0.25,0.25,0.25,0.25,0,0,0.5,0.5,0]
[]
[null,null,null,"MN","MN","MN","MN","MN","MN","A1","A2","A3","Gesamt M","Gesamt S","Gesamtnote","Note 1HJ"]
["Nr.","Nachname","Vorname","Punkte","Punkte","Punkte","Punkte","Punkte","Punkte","Punkte","Punkte","Punkte","Punkte","Punkte","Punkte","Punkte"]
[]
[1,{"$f":"IF(ISBLANK(Noten_1HJ!B9),\"\",Noten_1HJ!B9)","v":""},{"$f":"IF(ISBLANK(Noten_1HJ!C9),\"\",Noten_1HJ!C9)","v":""},null,null,null,null,null,null,null,null,null,{"$f":"IF(COUNT(D9,E9,F9,G9,H9,I9)>0,ROUND(SUMPRODUCT(D9:I9,$D$4:$I$4),0),\"\")","v":""},{"$f":"IF(COUNT(J9,K9,L9)>0,ROUND(SUMPRODUCT(J9:L9,$J$4:$L$4),0),\"\")","v":""},{"$f":"IF(COUNT(M9,N9)=2,ROUND($C$4*SUMPRODUCT(D9:I9,$D$4:$I$4)+$C$3*SUMPRODUCT(J9:L9,$J$4:$L$4),0),\"\")","v":""},{"$f":"IF(ISBLANK(Noten_1HJ!O9),\"\",Noten_1HJ!O9)","v":""}]
[{"$f":"1+A9","v":2},{"$f":"IF(ISBLANK(Noten_1HJ!B10),\"\",Noten_1HJ!B10)","v":""},{"$f":"IF(ISBLANK(Noten_1HJ!C10),\"\",Noten_1HJ!C10)","v":""},null,null,null,null,null,null,null,null,null,{"$f":"IF(COUNT(D10,E10,F10,G10,H10,I10)>0,ROUND(SUMPRODUCT(D10:I10,$D$4:$I$4),0),\"\")","v":""},{"$f":"IF(COUNT(J10,K10,L10)>0,ROUND(SUMPRODUCT(J10:L10,$J$4:$L$4),0),\"\")","v":""},{"$f":"IF(COUNT(M10,N10)=2,ROUND($C$4*SUMPRODUCT(D10:I10,$D$4:$I$4)+$C$3*SUMPRODUCT(J10:L10,$J$4:$L$4),0),\"\")","v":""},{"$f":"IF(ISBLANK(Noten_1HJ!O10),\"\",Noten_1HJ!O10)","v":""}]
[{"$f":"1+A10","v":3},{"$f":"IF(ISBLANK(Noten_1HJ!B11),\"\",Noten_1HJ!B11)","v":""},{"$f":"IF(ISBLANK(Noten_1HJ!C11),\"\",Noten_1HJ!C11)","v":""},null,null,null,null,null,null,null,null,null,"","","",{"$f":"IF(ISBLANK(Noten_1HJ!O11),\"\",Noten_1HJ!O11)","v":""}]
[4,{"$f":"IF(ISBLANK(Noten_1HJ!B12),\"\",Noten_1HJ!B12)","v":""},{"$f":"IF(ISBLANK(Noten_1HJ!C12),\"\",Noten_1HJ!C12)","v":""},null,null,null,null,null,null,null,null,null,"","","",{"$f":"IF(ISBLANK(Noten_1HJ!O12),\"\",Noten_1HJ!O12)","v":""}]
[5,{"$f":"IF(ISBLANK(Noten_1HJ!B13),\"\",Noten_1HJ!B13)","v":""},{"$f":"IF(ISBLANK(Noten_1HJ!C13),\"\",Noten_1HJ!C13)","v":""},null,null,null,null,null,null,null,null,null,"","","",{"$f":"IF(ISBLANK(Noten_1HJ!O13),\"\",Noten_1HJ!O13)","v":""}]
[6,{"$f":"IF(ISBLANK(Noten_1HJ!B14),\"\",Noten_1HJ!B14)","v":""},{"$f":"IF(ISBLANK(Noten_1HJ!C14),\"\",Noten_1HJ!C14)","v":""},null,null,null,null,null,null,null,null,null,"","","",{"$f":"IF(ISBLANK(Noten_1HJ!O14),\"\",Noten_1HJ!O14)","v":""}]
[7,{"$f":"IF(ISBLANK(Noten_1HJ!B15),\"\",Noten_1HJ!B15)","v":""},{"$f":"IF(ISBLANK(Noten_1HJ!C15),\"\",Noten_1HJ!C15)","v":""},null,null,null,null,null,null,null,null,null,"","","",{"$f":"IF(ISBLANK(Noten_1HJ!O15),\"\",Noten_1HJ!O15)","v":""}]
[8,{"$f":"IF(ISBLANK(Noten_1HJ!B16),\"\",Noten_1HJ!B16)","v":""},{"$f":"IF(ISBLANK(Noten_1HJ!C16),\"\",Noten_1HJ!C16)","v":""},null,null,null,null,null,null,null,null,null,"","","",{"$f":"IF(ISBLANK(Noten_1HJ!O16),\"\",Noten_1HJ!O16)","v":""}]
[9,{"$f":"IF(ISBLANK(Noten_1HJ!B17),\"\",Noten_1HJ!B17)","v":""},{"$f":"IF(ISBLANK(Noten_1HJ!C17),\"\",Noten_1HJ!C17)","v":""},null,null,null,null,null,null,null,null,null,"","","",{"$f":"IF(ISBLANK(Noten_1HJ!O17),\"\",Noten_1HJ!O17)","v":""}]
[10,{"$f":"IF(ISBLANK(Noten_1HJ!B18),\"\",Noten_1HJ!B18)","v":""},{"$f":"IF(ISBLANK(Noten_1HJ!C18),\"\",Noten_1HJ!C18)","v":""},null,null,null,null,null,null,null,null,null,"","","",{"$f":"IF(ISBLANK(Noten_1HJ!O18),\"\",Noten_1HJ!O18)","v":""}]
[11,{"$f":"IF(ISBLANK(Noten_1HJ!B19),\"\",Noten_1HJ!B19)","v":""},{"$f":"IF(ISBLANK(Noten_1HJ!C19),\"\",Noten_1HJ!C19)","v":""},null,null,null,null,null,null,null,null,null,"","","",{"$f":"IF(ISBLANK(Noten_1HJ!O19),\"\",Noten_1HJ!O19)","v":""}]
[12,{"$f":"IF(ISBLANK(Noten_1HJ!B20),\"\",Noten_1HJ!B20)","v":""},{"$f":"IF(ISBLANK(Noten_1HJ!C20),\"\",Noten_1HJ!C20)","v":""},null,null,null,null,null,null,null,null,null,"","","",{"$f":"IF(ISBLANK(Noten_1HJ!O20),\"\",Noten_1HJ!O20)","v":""}]
[13,{"$f":"IF(ISBLANK(Noten_1HJ!B21),\"\",Noten_1HJ!B21)","v":""},{"$f":"IF(ISBLANK(Noten_1HJ!C21),\"\",Noten_1HJ!C21)","v":""},null,null,null,null,null,null,null,null,null,"","","",{"$f":"IF(ISBLANK(Noten_1HJ!O21),\"\",Noten_1HJ!O21)","v":""}]
[14,{"$f":"IF(ISBLANK(Noten_1HJ!B22),\"\",Noten_1HJ!B22)","v":""},{"$f":"IF(ISBLANK(Noten_1HJ!C22),\"\",Noten_1HJ!C22)","v":""},null,null,null,null,null,null,null,null,null,"","","",{"$f":"IF(ISBLANK(Noten_1HJ!O22),\"\",Noten_1HJ!O22)","v":""}]
[15,{"$f":"IF(ISBLANK(Noten_1HJ!B23),\"\",Noten_1HJ!B23)","v":""},{"$f":"IF(ISBLANK(Noten_1HJ!C23),\"\",Noten_1HJ!C23)","v":""},null,null,null,null,null,null,null,null,null,"","","",{"$f":"IF(ISBLANK(Noten_1HJ!O23),\"\",Noten_1HJ!O23)","v":""}]
[16,{"$f":"IF(ISBLANK(Noten_1HJ!B24),\"\",Noten_1HJ!B24)","v":""},{"$f":"IF(ISBLANK(Noten_1HJ!C24),\"\",Noten_1HJ!C24)","v":""},null,null,null,null,null,null,null,null,null,"","","",{"$f":"IF(ISBLANK(Noten_1HJ!O24),\"\",Noten_1HJ!O24)","v":""}]
[17,{"$f":"IF(ISBLANK(Noten_1HJ!B25),\"\",Noten_1HJ!B25)","v":""},{"$f":"IF(ISBLANK(Noten_1HJ!C25),\"\",Noten_1HJ!C25)","v":""},null,null,null,null,null,null,null,null,null,"","","",{"$f":"IF(ISBLANK(Noten_1HJ!O25),\"\",Noten_1HJ!O25)","v":""}]
[18,{"$f":"IF(ISBLANK(Noten_1HJ!B26),\"\",Noten_1HJ!B26)","v":""},{"$f":"IF(ISBLANK(Noten_1HJ!C26),\"\",Noten_1HJ!C26)","v":""},null,null,null,null,null,null,null,null,null,"","","",{"$f":"IF(ISBLANK(Noten_1HJ!O26),\"\",Noten_1HJ!O26)","v":""}]
[19,{"$f":"IF(ISBLANK(Noten_1HJ!B27),\"\",Noten_1HJ!B27)","v":""},{"$f":"IF(ISBLANK(Noten_1HJ!C27),\"\",Noten_1HJ!C27)","v":""},null,null,null,null,null,null,null,null,null,"","","",{"$f":"IF(ISBLANK(Noten_1HJ!O27),\"\",Noten_1HJ!O27)","v":""}]
[20,{"$f":"IF(ISBLANK(Noten_1HJ!B28),\"\",Noten_1HJ!B28)","v":""},{"$f":"IF(ISBLANK(Noten_1HJ!C28),\"\",Noten_1HJ!C28)","v":""},null,null,null,null,null,null,null,null,null,"","","",{"$f":"IF(ISBLANK(Noten_1HJ!O28),\"\",Noten_1HJ!O28)","v":""}]
[21,{"$f":"IF(ISBLANK(Noten_1HJ!B29),\"\",Noten_1HJ!B29)","v":""},{"$f":"IF(ISBLANK(Noten_1HJ!C29),\"\",Noten_1HJ!C29)","v":""},null,null,null,null,null,null,null,null,null,"","","",{"$f":"IF(ISBLANK(Noten_1HJ!O29),\"\",Noten_1HJ!O29)","v":""}]
[22,{"$f":"IF(ISBLANK(Noten_1HJ!B30),\"\",Noten_1HJ!B30)","v":""},{"$f":"IF(ISBLANK(Noten_1HJ!C30),\"\",Noten_1HJ!C30)","v":""},null,null,null,null,null,null,null,null,null,"","","",{"$f":"IF(ISBLANK(Noten_1HJ!O30),\"\",Noten_1HJ!O30)","v":""}]
[23,{"$f":"IF(ISBLANK(Noten_1HJ!B31),\"\",Noten_1HJ!B31)","v":""},{"$f":"IF(ISBLANK(Noten_1HJ!C31),\"\",Noten_1HJ!C31)","v":""},null,null,null,null,null,null,null,null,null,"","","",{"$f":"IF(ISBLANK(Noten_1HJ!O31),\"\",Noten_1HJ!O31)","v":""}]
[24,{"$f":"IF(ISBLANK(Noten_1HJ!B32),\"\",Noten_1HJ!B32)","v":""},{"$f":"IF(ISBLANK(Noten_1HJ!C32),\"\",Noten_1HJ!C32)","v":""},null,null,null,null,null,null,null,null,null,"","","",{"$f":"IF(ISBLANK(Noten_1HJ!O32),\"\",Noten_1HJ!O32)","v":""}]
[25,{"$f":"IF(ISBLANK(Noten_1HJ!B33),\"\",Noten_1HJ!B33)","v":""},{"$f":"IF(ISBLANK(Noten_1HJ!C33),\"\",Noten_1HJ!C33)","v":""},null,null,null,null,null,null,null,null,null,"","","",{"$f":"IF(ISBLANK(Noten_1HJ!O33),\"\",Noten_1HJ!O33)","v":""}]
[26,{"$f":"IF(ISBLANK(Noten_1HJ!B34),\"\",Noten_1HJ!B34)","v":""},{"$f":"IF(ISBLANK(Noten_1HJ!C34),\"\",Noten_1HJ!C34)","v":""},null,null,null,null,null,null,null,null,null,"","","",{"$f":"IF(ISBLANK(Noten_1HJ!O34),\"\",Noten_1HJ!O34)","v":""}]
[27,{"$f":"IF(ISBLANK(Noten_1HJ!B35),\"\",Noten_1HJ!B35)","v":""},{"$f":"IF(ISBLANK(Noten_1HJ!C35),\"\",Noten_1HJ!C35)","v":""},null,null,null,null,null,null,null,null,null,"","","",{"$f":"IF(ISBLANK(Noten_1HJ!O35),\"\",Noten_1HJ!O35)","v":""}]
[28,{"$f":"IF(ISBLANK(Noten_1HJ!B36),\"\",Noten_1HJ!B36)","v":""},{"$f":"IF(ISBLANK(Noten_1HJ!C36),\"\",Noten_1HJ!C36)","v":""},null,null,null,null,null,null,null,null,null,"","","",{"$f":"IF(ISBLANK(Noten_1HJ!O36),\"\",Noten_1HJ!O36)","v":""}]
[29,{"$f":"IF(ISBLANK(Noten_1HJ!B37),\"\",Noten_1HJ!B37)","v":""},{"$f":"IF(ISBLANK(Noten_1HJ!C37),\"\",Noten_1HJ!C37)","v":""},null,null,null,null,null,null,null,null,null,"","","",{"$f":"IF(ISBLANK(Noten_1HJ!O37),\"\",Noten_1HJ!O37)","v":""}]
[30,{"$f":"IF(ISBLANK(Noten_1HJ!B38),\"\",Noten_1HJ!B38)","v":""},{"$f":"IF(ISBLANK(Noten_1HJ!C38),\"\",Noten_1HJ!C38)","v":""},null,null,null,null,null,null,null,null,null,"","","",{"$f":"IF(ISBLANK(Noten_1HJ!O38),\"\",Noten_1HJ!O38)","v":""}]
[31,{"$f":"IF(ISBLANK(Noten_1HJ!B39),\"\",Noten_1HJ!B39)","v":""},{"$f":"IF(ISBLANK(Noten_1HJ!C39),\"\",Noten_1HJ!C39)","v":""},null,null,null,null,null,null,null,null,null,"","","",{"$f":"IF(ISBLANK(Noten_1HJ!O39),\"\",Noten_1HJ!O39)","v":""}]
[32,{"$f":"IF(ISBLANK(Noten_1HJ!B40),\"\",Noten_1HJ!B40)","v":""},{"$f":"IF(ISBLANK(Noten_1HJ!C40),\"\",Noten_1HJ!C40)","v":""},null,null,null,null,null,null,null,null,null,"","","",{"$f":"IF(ISBLANK(Noten_1HJ!O40),\"\",Noten_1HJ!O40)","v":""}]
[33,{"$f":"IF(ISBLANK(Noten_1HJ!B41),\"\",Noten_1HJ!B41)","v":""},{"$f":"IF(ISBLANK(Noten_1HJ!C41),\"\",Noten_1HJ!C41)","v":""},null,null,null,null,null,null,null,null,null,"","","",{"$f":"IF(ISBLANK(Noten_1HJ!O41),\"\",Noten_1HJ!O41)","v":""}]
[34,{"$f":"IF(ISBLANK(Noten_1HJ!B42),\"\",Noten_1HJ!B42)","v":""},{"$f":"IF(ISBLANK(Noten_1HJ!C42),\"\",Noten_1HJ!C42)","v":""},null,null,null,null,null,null,null,null,null,"","","",{"$f":"IF(ISBLANK(Noten_1HJ!O42),\"\",Noten_1HJ!O42)","v":""}]
[35,{"$f":"IF(ISBLANK(Noten_1HJ!B43),\"\",Noten_1HJ!B43)","v":""},{"$f":"IF(ISBLANK(Noten_1HJ!C43),\"\",Noten_1HJ!C43)","v":""},null,null,null,null,null,null,null,null,null,"","","",{"$f":"IF(ISBLANK(Noten_1HJ!O43),\"\",Noten_1HJ!O43)","v":""}]
[36,{"$f":"IF(ISBLANK(Noten_1HJ!B44),\"\",Noten_1HJ!B44)","v":""},{"$f":"IF(ISBLANK(Noten_1HJ!C44),\"\",Noten_1HJ!C44)","v":""},null,null,null,null,null,null,null,null,null,"","","",{"$f":"IF(ISBLANK(Noten_1HJ!O44),\"\",Noten_1HJ!O44)","v":""}]
[37,{"$f":"IF(ISBLANK(Noten_1HJ!B45),\"\",Noten_1HJ!B45)","v":""},{"$f":"IF(ISBLANK(Noten_1HJ!C45),\"\",Noten_1HJ!C45)","v":""},null,null,null,null,null,null,null,null,null,"","","",{"$f":"IF(ISBLANK(Noten_1HJ!O45),\"\",Noten_1HJ!O45)","v":""}]
[38,{"$f":"IF(ISBLANK(Noten_1HJ!B46),\"\",Noten_1HJ!B46)","v":""},{"$f":"IF(ISBLANK(Noten_1HJ!C46),\"\",Noten_1HJ!C46)","v":""},null,null,null,null,null,null,null,null,null,"","","",{"$f":"IF(ISBLANK(Noten_1HJ!O46),\"\",Noten_1HJ!O46)","v":""}]
[39,{"$f":"IF(ISBLANK(Noten_1HJ!B47),\"\",Noten_1HJ!B47)","v":""},{"$f":"IF(ISBLANK(Noten_1HJ!C47),\"\",Noten_1HJ!C47)","v":""},null,null,null,null,null,null,null,null,null,"","","",{"$f":"IF(ISBLANK(Noten_1HJ!O47),\"\",Noten_1HJ!O47)","v":""}]
[40,{"$f":"IF(ISBLANK(Noten_1HJ!B48),\"\",Noten_1HJ!B48)","v":""},{"$f":"IF(ISBLANK(Noten_1HJ!C48),\"\",Noten_1HJ!C48)","v":""},null,null,null,null,null,null,null,null,null,"","","",{"$f":"IF(ISBLANK(Noten_1HJ!O48),\"\",Noten_1HJ!O48)","v":""}]
[]
[null,null,"Mittelwert",{"$f":"IF(COUNT(D9:D48)=0,\"-\",AVERAGE(D9:D48))","v":"-"},{"$f":"IF(COUNT(E9:E48)=0,\"-\",AVERAGE(E9:E48))","v":"-"},"-","-","-","-","-","-","-","-","-","-"]